BEGIN:VCALENDAR
VERSION:2.0
PRODID:-//Community Cat Crew - ECPv6.15.20//NONSGML v1.0//EN
CALSCALE:GREGORIAN
METHOD:PUBLISH
X-WR-CALNAME:Community Cat Crew
X-ORIGINAL-URL:https://communitycatcrew.org
X-WR-CALDESC:Events for Community Cat Crew
REFRESH-INTERVAL;VALUE=DURATION:PT1H
X-Robots-Tag:noindex
X-PUBLISHED-TTL:PT1H
BEGIN:VTIMEZONE
TZID:America/New_York
BEGIN:DAYLIGHT
TZOFFSETFROM:-0500
TZOFFSETTO:-0400
TZNAME:EDT
DTSTART:20250309T070000
END:DAYLIGHT
BEGIN:STANDARD
TZOFFSETFROM:-0400
TZOFFSETTO:-0500
TZNAME:EST
DTSTART:20251102T060000
END:STANDARD
BEGIN:DAYLIGHT
TZOFFSETFROM:-0500
TZOFFSETTO:-0400
TZNAME:EDT
DTSTART:20260308T070000
END:DAYLIGHT
BEGIN:STANDARD
TZOFFSETFROM:-0400
TZOFFSETTO:-0500
TZNAME:EST
DTSTART:20261101T060000
END:STANDARD
BEGIN:DAYLIGHT
TZOFFSETFROM:-0500
TZOFFSETTO:-0400
TZNAME:EDT
DTSTART:20270314T070000
END:DAYLIGHT
BEGIN:STANDARD
TZOFFSETFROM:-0400
TZOFFSETTO:-0500
TZNAME:EST
DTSTART:20271107T060000
END:STANDARD
END:VTIMEZONE
BEGIN:VEVENT
DTSTART;TZID=America/New_York:20260509T110000
DTEND;TZID=America/New_York:20260509T140000
DTSTAMP:20260421T161451
CREATED:20260106T212514Z
LAST-MODIFIED:20260106T222035Z
UID:4305-1778324400-1778335200@communitycatcrew.org
SUMMARY:Pet Adoption Day
DESCRIPTION:Each year\, Tanger Outlets in Grand Rapids hosts a Pet Adoption Day and Pet Expo to celebrate National Pet Month and connect animals with loving families. Local humane societies\, rescues\, and shelters bring adoptable pets to the event\, giving visitors the chance to meet and potentially adopt their new best friend. The day also includes family-friendly activities\, treats\, and opportunities to learn more about ending pet homelessness in our community.
URL:https://communitycatcrew.org/event/pet-adoption-day/
LOCATION:Tanger Outlets Grand Rapids\, 350 84th St SW\, Byron Center\, MI\, 49315\, United States
CATEGORIES:Community Events
ATTACH;FMTTYPE=image/png:https://communitycatcrew.org/wp-content/uploads/2026/01/Your-paragraph-text-41.png
END:VEVENT
END:VCALENDAR